BEGIN:VCALENDAR
VERSION:2.0
CALSCALE:GREGORIAN
PRODID:-//Diputació de Barcelona//DibaCMS//EN
BEGIN:VEVENT
UID:2000
DTSTAMP:20260422T035038
DTSTART:20211029T220000
DTEND:20211029T220000
SUMMARY:Ballet Contemporani Catalunya: "Els Focs de Sant Joan"
LOCATION:Passeig de Gibellàs, 1 08695 Bagà
METHOD:PUBLISH
X-WR-CALNAME:baga@baga.cat
X-WR-TIMEZONE:Europe/Madrid
DESCRIPTION:La consagració de Robert Gerhard.

URI:https://www.baga.cat/actualitat/agenda/ballet-contemporani-catalunya-els-focs-de-sant-joan.html
CLASS:PUBLIC
END:VEVENT
END:VCALENDAR
