BEGIN:VCALENDAR
VERSION:2.0
CALSCALE:GREGORIAN
PRODID:-//Diputació de Barcelona//DibaCMS//EN
BEGIN:VEVENT
UID:1999
DTSTAMP:20260421T225559
DTSTART:20211028T193000
DTEND:20211028T193000
SUMMARY:Acte cultural Festes del foc dels solsticis als Pirineus
LOCATION:Plaça Galceran de Pinós 08695 Bagà
METHOD:PUBLISH
X-WR-CALNAME:baga@baga.cat
X-WR-TIMEZONE:Europe/Madrid
DESCRIPTION:Ballada del Ball cerdà i de la dansa de la Fia-faia, coordinat per l'Esbart Cadí.

URI:https://www.baga.cat/actualitat/agenda/acte-cultural-festes-del-foc-dels-solsticis-als-pirineus.html
CLASS:PUBLIC
END:VEVENT
END:VCALENDAR
