BEGIN:VCALENDAR
VERSION:2.0
CALSCALE:GREGORIAN
PRODID:-//Diputació de Barcelona//DibaCMS//EN
BEGIN:VEVENT
UID:1998
DTSTAMP:20260422T002347
DTSTART:20211030T100000
DTEND:20211030T140000
SUMMARY:11a. Trobada de tardor d'intercanvi de plaques de cava
LOCATION:
METHOD:PUBLISH
X-WR-CALNAME:baga@baga.cat
X-WR-TIMEZONE:Europe/Madrid
DESCRIPTION:Organitzat per l'ACP Bagà

URI:https://www.baga.cat/actualitat/agenda/11a-trobada-de-tardor-dintercanvi-de-plaques-de-cava.html
CLASS:PUBLIC
END:VEVENT
END:VCALENDAR
