BEGIN:VCALENDAR
VERSION:2.0
CALSCALE:GREGORIAN
PRODID:-//Diputació de Barcelona//DibaCMS//EN
BEGIN:VEVENT
UID:1997
DTSTAMP:20260421T233041
DTSTART:20211030T140000
DTEND:20211030T230000
SUMMARY:Dinar XI Trobada de Fallaires i ball amb DJ Líria
LOCATION:Passeig de Gibellàs, 1 08695 Bagà
METHOD:PUBLISH
X-WR-CALNAME:baga@baga.cat
X-WR-TIMEZONE:Europe/Madrid
DESCRIPTION:
URI:https://www.baga.cat/actualitat/agenda/dinar-xi-trobada-de-fallaires-i-ball-amb-dj-liria.html
CLASS:PUBLIC
END:VEVENT
END:VCALENDAR
