BEGIN:VCALENDAR
VERSION:2.0
CALSCALE:GREGORIAN
PRODID:-//Diputació de Barcelona//DibaCMS//EN
BEGIN:VEVENT
UID:1996
DTSTAMP:20260422T035339
DTSTART:20211211T070000
DTEND:20211211T220000
SUMMARY:Excursió a Montserrat
LOCATION:
METHOD:PUBLISH
X-WR-CALNAME:baga@baga.cat
X-WR-TIMEZONE:Europe/Madrid
DESCRIPTION:
URI:https://www.baga.cat/actualitat/agenda/excursio-a-montserrat.html
CLASS:PUBLIC
END:VEVENT
END:VCALENDAR
