BEGIN:VCALENDAR
VERSION:2.0
CALSCALE:GREGORIAN
PRODID:-//Diputació de Barcelona//DibaCMS//EN
BEGIN:VEVENT
UID:1994
DTSTAMP:20260422T010345
DTSTART:20211030T093000
DTEND:20211030T220000
SUMMARY:XI Trobada Internacional de Fallaires
LOCATION:
METHOD:PUBLISH
X-WR-CALNAME:baga@baga.cat
X-WR-TIMEZONE:Europe/Madrid
DESCRIPTION:La trobada d’experts del món fallaire de Catalunya, Andorra, França i Aragó.

URI:https://www.baga.cat/actualitat/agenda/xi-trobada-internacional-de-fallaires.html
CLASS:PUBLIC
END:VEVENT
END:VCALENDAR
