BEGIN:VCALENDAR
VERSION:2.0
CALSCALE:GREGORIAN
PRODID:-//Diputació de Barcelona//DibaCMS//EN
BEGIN:VEVENT
UID:1991
DTSTAMP:20260422T010447
DTSTART:20211027T000000
DTEND:20211029T000000
SUMMARY:Festes del foc dels solsticis als Pirineus
LOCATION:
METHOD:PUBLISH
X-WR-CALNAME:baga@baga.cat
X-WR-TIMEZONE:Europe/Madrid
DESCRIPTION:Simposi internacional online. Bagà-Sant Julià de Cerdanyola

URI:https://www.baga.cat/actualitat/agenda/festes-del-foc-dels-solsticis-als-pirineus.html
CLASS:PUBLIC
END:VEVENT
END:VCALENDAR
