BEGIN:VCALENDAR
VERSION:2.0
CALSCALE:GREGORIAN
PRODID:-//Diputació de Barcelona//DibaCMS//EN
BEGIN:VEVENT
UID:1986
DTSTAMP:20260422T024102
DTSTART:20211031T083000
DTEND:20211031T140000
SUMMARY:Excursió Malanyeu, el Reu i la Nou
LOCATION:
METHOD:PUBLISH
X-WR-CALNAME:baga@baga.cat
X-WR-TIMEZONE:Europe/Madrid
DESCRIPTION:Excursió que ens porta de Malanyeu a la Nou de Berguedà pels cingles del Reu.

URI:https://www.baga.cat/actualitat/agenda/excursio-malanyeu-el-reu-i-la-nou.html
CLASS:PUBLIC
END:VEVENT
END:VCALENDAR
