BEGIN:VCALENDAR
VERSION:2.0
CALSCALE:GREGORIAN
PRODID:-//Diputació de Barcelona//DibaCMS//EN
BEGIN:VEVENT
UID:1985
DTSTAMP:20260422T024819
DTSTART:20211110T155000
DTEND:20211110T220000
SUMMARY:Anem al teatre
LOCATION:
METHOD:PUBLISH
X-WR-CALNAME:baga@baga.cat
X-WR-TIMEZONE:Europe/Madrid
DESCRIPTION:"Billy Elliot, el Musical"

URI:https://www.baga.cat/actualitat/agenda/anem-al-teatre.html
CLASS:PUBLIC
END:VEVENT
END:VCALENDAR
