BEGIN:VCALENDAR
VERSION:2.0
CALSCALE:GREGORIAN
PRODID:-//Diputació de Barcelona//DibaCMS//EN
BEGIN:VEVENT
UID:1982
DTSTAMP:20260422T071037
DTSTART:20211002T000000
DTEND:20211024T000000
SUMMARY:Activitats Parc natural Cadí-Moixeró
LOCATION:
METHOD:PUBLISH
X-WR-CALNAME:baga@baga.cat
X-WR-TIMEZONE:Europe/Madrid
DESCRIPTION:
URI:https://www.baga.cat/actualitat/agenda/1982-activitats-parc-natural-cadi-moixero.html
CLASS:PUBLIC
END:VEVENT
END:VCALENDAR
