BEGIN:VCALENDAR
VERSION:2.0
CALSCALE:GREGORIAN
PRODID:-//Diputació de Barcelona//DibaCMS//EN
BEGIN:VEVENT
UID:1980
DTSTAMP:20260422T010307
DTSTART:20210928T000000
DTEND:20210928T000000
SUMMARY:Activitats Parc Natural Cadí-Moixeró
LOCATION:
METHOD:PUBLISH
X-WR-CALNAME:baga@baga.cat
X-WR-TIMEZONE:Europe/Madrid
DESCRIPTION:

Anellament científic i observació d'ocells en el seu medi

Dissabte, 2, a les 8h, Sant Joan de l'Avellanet

Diumenge, 3, a les 9h, Xalet de coll de Pal

L'Hàbitat del Gall Fer, sortida

Diumenge, 10 , ales 9h,  Centre del Parc

La producció de fruita per autoconsum a muntanya, jornada teòrico-pràctica

Dissabte, 16 , a les 9.30h, Sant Joan de l'Avellanet

Els Empedrats i les boixeres del Moixeró, sortida

Diumenge, 23, a les 9h, Centre del Parc

Taller de fotografia de natura "Descobrint la tador"

Dissabte, 23 i diumenge, 24, a les 9.30h, Refugi REbost

Per participar cal inscripció prèvia



URI:https://www.baga.cat/actualitat/agenda/activitats-parc-natural-cadi-moixero.html
CLASS:PUBLIC
END:VEVENT
END:VCALENDAR
