BEGIN:VCALENDAR
VERSION:2.0
CALSCALE:GREGORIAN
PRODID:-//Diputació de Barcelona//DibaCMS//EN
BEGIN:VEVENT
UID:1972
DTSTAMP:20260421T212640
DTSTART:20210927T091500
DTEND:20211007T091500
SUMMARY:Inscripcions obertes curs d'anglès per a gent gran
LOCATION:
METHOD:PUBLISH
X-WR-CALNAME:baga@baga.cat
X-WR-TIMEZONE:Europe/Madrid
DESCRIPTION:
URI:https://www.baga.cat/actualitat/agenda/inscripcions-obertes-curs-dangles-per-a-gent-gran.html
CLASS:PUBLIC
END:VEVENT
END:VCALENDAR
