BEGIN:VCALENDAR
VERSION:2.0
CALSCALE:GREGORIAN
PRODID:-//Diputació de Barcelona//DibaCMS//EN
BEGIN:VEVENT
UID:1970
DTSTAMP:20260421T225924
DTSTART:20210920T000000
DTEND:20211030T000000
SUMMARY:Inscripcions Escola de música - curs 2021-2022
LOCATION:
METHOD:PUBLISH
X-WR-CALNAME:baga@baga.cat
X-WR-TIMEZONE:Europe/Madrid
DESCRIPTION:
URI:https://www.baga.cat/actualitat/agenda/inscripcions-escola-de-musica-curs-2021-2022.html
CLASS:PUBLIC
END:VEVENT
END:VCALENDAR
