BEGIN:VCALENDAR
VERSION:2.0
CALSCALE:GREGORIAN
PRODID:-//Diputació de Barcelona//DibaCMS//EN
BEGIN:VEVENT
UID:1969
DTSTAMP:20260421T231411
DTSTART:20210925T180000
DTEND:20210925T220000
SUMMARY:La brama del cèrvol, activitat parc natural Cadí-Moixeró
LOCATION:
METHOD:PUBLISH
X-WR-CALNAME:baga@baga.cat
X-WR-TIMEZONE:Europe/Madrid
DESCRIPTION:
URI:https://www.baga.cat/actualitat/agenda/la-brama-del-cervol-activitat-parc-natural-cadi-moixero.html
CLASS:PUBLIC
END:VEVENT
END:VCALENDAR
