BEGIN:VCALENDAR
VERSION:2.0
CALSCALE:GREGORIAN
PRODID:-//Diputació de Barcelona//DibaCMS//EN
BEGIN:VEVENT
UID:1967
DTSTAMP:20260422T022726
DTSTART:20210922T000000
DTEND:20211208T000000
SUMMARY:Exposició "Tots podem ajudar el Gall Fer", activitat Parc Natural del Cadí-Moixeró
LOCATION:C. de la Vinya, 1 08695 Bagà
METHOD:PUBLISH
X-WR-CALNAME:baga@baga.cat
X-WR-TIMEZONE:Europe/Madrid
DESCRIPTION:
URI:https://www.baga.cat/actualitat/agenda/exposicio-tots-podem-ajudar-el-gall-fer-activitat-parc-natural-del-cadi-moixero.html
CLASS:PUBLIC
END:VEVENT
END:VCALENDAR
