BEGIN:VCALENDAR
VERSION:2.0
CALSCALE:GREGORIAN
PRODID:-//Diputació de Barcelona//DibaCMS//EN
BEGIN:VEVENT
UID:1965
DTSTAMP:20260421T214326
DTSTART:20210917T170000
DTEND:20210917T200000
SUMMARY:Dia per l'alliberament LGTBI+
LOCATION:
METHOD:PUBLISH
X-WR-CALNAME:baga@baga.cat
X-WR-TIMEZONE:Europe/Madrid
DESCRIPTION:
URI:https://www.baga.cat/actualitat/agenda/1965-dia-per-lalliberament-lgtbi.html
CLASS:PUBLIC
END:VEVENT
END:VCALENDAR
