BEGIN:VCALENDAR
VERSION:2.0
CALSCALE:GREGORIAN
PRODID:-//Diputació de Barcelona//DibaCMS//EN
BEGIN:VEVENT
UID:1963
DTSTAMP:20260422T040630
DTSTART:20210916T100000
DTEND:20210916T140000
SUMMARY:Caminada saludable 
LOCATION:
METHOD:PUBLISH
X-WR-CALNAME:baga@baga.cat
X-WR-TIMEZONE:Europe/Madrid
DESCRIPTION:
URI:https://www.baga.cat/actualitat/agenda/caminada-saludable-.html
CLASS:PUBLIC
END:VEVENT
END:VCALENDAR
