BEGIN:VCALENDAR
VERSION:2.0
CALSCALE:GREGORIAN
PRODID:-//Diputació de Barcelona//DibaCMS//EN
BEGIN:VEVENT
UID:1953
DTSTAMP:20260422T055136
DTSTART:20210911T080000
DTEND:20210911T140000
SUMMARY:Pujada a la Senyera Roca Tiraval
LOCATION:
METHOD:PUBLISH
X-WR-CALNAME:baga@baga.cat
X-WR-TIMEZONE:Europe/Madrid
DESCRIPTION:
URI:https://www.baga.cat/actualitat/agenda/pujada-a-la-senyera-roca-tiraval.html
CLASS:PUBLIC
END:VEVENT
END:VCALENDAR
