BEGIN:VCALENDAR
VERSION:2.0
CALSCALE:GREGORIAN
PRODID:-//Diputació de Barcelona//DibaCMS//EN
BEGIN:VEVENT
UID:1952
DTSTAMP:20260421T214536
DTSTART:20210919T080000
DTEND:20210919T190000
SUMMARY:Festa social de la UEC de Bagà
LOCATION:
METHOD:PUBLISH
X-WR-CALNAME:baga@baga.cat
X-WR-TIMEZONE:Europe/Madrid
DESCRIPTION:
URI:https://www.baga.cat/actualitat/agenda/festa-social-de-la-uec-de-baga.html
CLASS:PUBLIC
END:VEVENT
END:VCALENDAR
