BEGIN:VCALENDAR
VERSION:2.0
CALSCALE:GREGORIAN
PRODID:-//Diputació de Barcelona//DibaCMS//EN
BEGIN:VEVENT
UID:1946
DTSTAMP:20260422T111647
DTSTART:20210908T000000
DTEND:20210908T000000
SUMMARY:La vida als torrents i la qualitat de l'aigua
LOCATION:
METHOD:PUBLISH
X-WR-CALNAME:baga@baga.cat
X-WR-TIMEZONE:Europe/Madrid
DESCRIPTION:
URI:https://www.baga.cat/actualitat/agenda/la-vida-als-torrents-i-la-qualitat-de-laigua.html
CLASS:PUBLIC
END:VEVENT
END:VCALENDAR
