BEGIN:VCALENDAR
VERSION:2.0
CALSCALE:GREGORIAN
PRODID:-//Diputació de Barcelona//DibaCMS//EN
BEGIN:VEVENT
UID:1944
DTSTAMP:20260422T134509
DTSTART:20210908T000000
DTEND:20210908T000000
SUMMARY:Festa social de la UEC
LOCATION:
METHOD:PUBLISH
X-WR-CALNAME:baga@baga.cat
X-WR-TIMEZONE:Europe/Madrid
DESCRIPTION:
URI:https://www.baga.cat/actualitat/agenda/festa-social-de-la-uec.html
CLASS:PUBLIC
END:VEVENT
END:VCALENDAR
