BEGIN:VCALENDAR
VERSION:2.0
CALSCALE:GREGORIAN
PRODID:-//Diputació de Barcelona//DibaCMS//EN
BEGIN:VEVENT
UID:1940
DTSTAMP:20260422T070158
DTSTART:20210814T220000
DTEND:20210815T000000
SUMMARY:Cinema a la Fresca | Estiu 2021 
LOCATION:
METHOD:PUBLISH
X-WR-CALNAME:baga@baga.cat
X-WR-TIMEZONE:Europe/Madrid
DESCRIPTION:Teatre i altres activitats culturals durant el mes d'agost a Bagà.

URI:https://www.baga.cat/actualitat/agenda/cinema-a-la-fresca-estiu-2021.html
CLASS:PUBLIC
END:VEVENT
END:VCALENDAR
