BEGIN:VCALENDAR
VERSION:2.0
CALSCALE:GREGORIAN
PRODID:-//Diputació de Barcelona//DibaCMS//EN
BEGIN:VEVENT
UID:1936
DTSTAMP:20260422T054140
DTSTART:20210814T070000
DTEND:20210815T150000
SUMMARY:Trail Moixeró 2021
LOCATION:
METHOD:PUBLISH
X-WR-CALNAME:baga@baga.cat
X-WR-TIMEZONE:Europe/Madrid
DESCRIPTION:Els dies 14 i 15 d'agost se celebra la nova edició de la cursa Trail Moixeró.

URI:https://www.baga.cat/actualitat/agenda/trail-moixero-2021.html
CLASS:PUBLIC
END:VEVENT
END:VCALENDAR
