BEGIN:VCALENDAR
VERSION:2.0
CALSCALE:GREGORIAN
PRODID:-//Diputació de Barcelona//DibaCMS//EN
BEGIN:VEVENT
UID:1934
DTSTAMP:20260422T120311
DTSTART:20210729T180000
DTEND:20210803T220000
SUMMARY:Festa Major 2021
LOCATION:
METHOD:PUBLISH
X-WR-CALNAME:baga@baga.cat
X-WR-TIMEZONE:Europe/Madrid
DESCRIPTION:Ja posts consultar el programa de la Festa Major d'aquest any 2021.

URI:https://www.baga.cat/actualitat/agenda/festa-major-2021.html
CLASS:PUBLIC
END:VEVENT
END:VCALENDAR
