BEGIN:VCALENDAR
VERSION:2.0
CALSCALE:GREGORIAN
PRODID:-//Diputació de Barcelona//DibaCMS//EN
BEGIN:VEVENT
UID:1933
DTSTAMP:20260422T085740
DTSTART:20210724T220000
DTEND:20210724T230000
SUMMARY:Improshow 24-juliol
LOCATION:C. Pintor de Soto, s/n 08695 Bagà
METHOD:PUBLISH
X-WR-CALNAME:baga@baga.cat
X-WR-TIMEZONE:Europe/Madrid
DESCRIPTION:Nova sessió d' Improshow dissabte 24 de juliol.

URI:https://www.baga.cat/actualitat/agenda/improshow-24-juliol.html
CLASS:PUBLIC
END:VEVENT
END:VCALENDAR
