BEGIN:VCALENDAR
VERSION:2.0
CALSCALE:GREGORIAN
PRODID:-//Diputació de Barcelona//DibaCMS//EN
BEGIN:VEVENT
UID:1932
DTSTAMP:20260422T085817
DTSTART:20210801T183000
DTEND:20210801T193000
SUMMARY:La Carquinyolada
LOCATION:Plaça Galceran de Pinós 08695 Bagà
METHOD:PUBLISH
X-WR-CALNAME:baga@baga.cat
X-WR-TIMEZONE:Europe/Madrid
DESCRIPTION:T'atreveixes a participar en la primera edició de La Carquinyolada"?

 

URI:https://www.baga.cat/actualitat/agenda/la-carquinyolada.html
CLASS:PUBLIC
END:VEVENT
END:VCALENDAR
