BEGIN:VCALENDAR
VERSION:2.0
CALSCALE:GREGORIAN
PRODID:-//Diputació de Barcelona//DibaCMS//EN
BEGIN:VEVENT
UID:1931
DTSTAMP:20260422T041145
DTSTART:20210801T090000
DTEND:20210801T150000
SUMMARY:Cursa popular 1 d'agost
LOCATION:
METHOD:PUBLISH
X-WR-CALNAME:baga@baga.cat
X-WR-TIMEZONE:Europe/Madrid
DESCRIPTION:XXIX Edició de la Cursa popular de Bagà, que se celebra el dia 1 d'agost, conicidint amb la Festa Major del poble.

URI:https://www.baga.cat/actualitat/agenda/cursa-popular-1-dagost.html
CLASS:PUBLIC
END:VEVENT
END:VCALENDAR
