BEGIN:VCALENDAR
VERSION:2.0
CALSCALE:GREGORIAN
PRODID:-//Diputació de Barcelona//DibaCMS//EN
BEGIN:VEVENT
UID:1928
DTSTAMP:20260422T103616
DTSTART:20210716T190000
DTEND:20210716T200000
SUMMARY:Visita guiada | Casc Antic
LOCATION:
METHOD:PUBLISH
X-WR-CALNAME:baga@baga.cat
X-WR-TIMEZONE:Europe/Madrid
DESCRIPTION:Apunta't a la visita guida pel Casc Antic de Bagà i gaudeix del seu encant i la seva història. 

URI:https://www.baga.cat/actualitat/agenda/visita-guiada--casc-antic.html
CLASS:PUBLIC
END:VEVENT
END:VCALENDAR
