BEGIN:VCALENDAR
VERSION:2.0
CALSCALE:GREGORIAN
PRODID:-//Diputació de Barcelona//DibaCMS//EN
BEGIN:VEVENT
UID:1927
DTSTAMP:20260422T103717
DTSTART:20210716T190000
DTEND:20210718T130000
SUMMARY:Festes de la Baronia 2021
LOCATION:
METHOD:PUBLISH
X-WR-CALNAME:baga@baga.cat
X-WR-TIMEZONE:Europe/Madrid
DESCRIPTION:Gaudeix dels dies de celebració de les Festes de la Baronia adaptades a la situació actual.

URI:https://www.baga.cat/actualitat/agenda/festes-de-la-baronia-2021.html
CLASS:PUBLIC
END:VEVENT
END:VCALENDAR
