BEGIN:VCALENDAR
VERSION:2.0
CALSCALE:GREGORIAN
PRODID:-//Diputació de Barcelona//DibaCMS//EN
BEGIN:VEVENT
UID:1925
DTSTAMP:20260422T040915
DTSTART:20210716T000000
DTEND:20210716T000000
SUMMARY:Pasacalle Al son de los arroyuelos
LOCATION:Carrer Mossèn Jaume 08695 Bagà
METHOD:PUBLISH
X-WR-CALNAME:baga@baga.cat
X-WR-TIMEZONE:Europe/Madrid
DESCRIPTION:Concert de música instrumental i vocal del barroc ibèric on mostren diverses danses instrumentals i tons humans de l'època. Un concert molt animat on les cordes de la guitarra i la tiorba ballaran al so de la percussió, tot acompanyant la veu.

URI:https://www.baga.cat/actualitat/agenda/pasacalle-al-son-de-los-arroyuelos.html
CLASS:PUBLIC
END:VEVENT
END:VCALENDAR
