BEGIN:VCALENDAR
VERSION:2.0
CALSCALE:GREGORIAN
PRODID:-//Diputació de Barcelona//DibaCMS//EN
BEGIN:VEVENT
UID:1922
DTSTAMP:20260422T022943
DTSTART:20210607T203000
DTEND:20210707T213000
SUMMARY:Parlem de l'Àfrica - Projecte Mampatim
LOCATION:C. de la Vinya, 1 08695 Bagà
METHOD:PUBLISH
X-WR-CALNAME:baga@baga.cat
X-WR-TIMEZONE:Europe/Madrid
DESCRIPTION:Xerrada, debat i ressopó per parlar del projecte Mampatim al Senegal. 

URI:https://www.baga.cat/actualitat/agenda/parlem-de-lafrica-projecte-mampatim.html
CLASS:PUBLIC
END:VEVENT
END:VCALENDAR
