BEGIN:VCALENDAR
VERSION:2.0
CALSCALE:GREGORIAN
PRODID:-//Diputació de Barcelona//DibaCMS//EN
BEGIN:VEVENT
UID:1921
DTSTAMP:20260422T115901
DTSTART:20210725T073000
DTEND:20210725T120000
SUMMARY:UEC Bagà - Font del Cristall
LOCATION:
METHOD:PUBLISH
X-WR-CALNAME:baga@baga.cat
X-WR-TIMEZONE:Europe/Madrid
DESCRIPTION:Excursió per descobrir el cim més alt de la província de Barcelona i visitar la Font del Cristall.

URI:https://www.baga.cat/actualitat/agenda/uec-baga-font-del-cristall.html
CLASS:PUBLIC
END:VEVENT
END:VCALENDAR
