BEGIN:VCALENDAR
VERSION:2.0
CALSCALE:GREGORIAN
PRODID:-//Diputació de Barcelona//DibaCMS//EN
BEGIN:VEVENT
UID:1920
DTSTAMP:20260422T115800
DTSTART:20210703T000000
DTEND:20210821T000000
SUMMARY:Encenalls Culturals | Estiu 2021
LOCATION:
METHOD:PUBLISH
X-WR-CALNAME:baga@baga.cat
X-WR-TIMEZONE:Europe/Madrid
DESCRIPTION:Concerts, teatre i altres activitats culturals durant els mesos de juliol i agost a Bagà.

URI:https://www.baga.cat/actualitat/agenda/encenalls-culturals-estiu-2021.html
CLASS:PUBLIC
END:VEVENT
END:VCALENDAR
