BEGIN:VCALENDAR
VERSION:2.0
CALSCALE:GREGORIAN
PRODID:-//Diputació de Barcelona//DibaCMS//EN
BEGIN:VEVENT
UID:1915
DTSTAMP:20260422T090012
DTSTART:20210620T083000
DTEND:20210620T120000
SUMMARY:UEC Bagà - d'Escriga a Turbians
LOCATION:
METHOD:PUBLISH
X-WR-CALNAME:baga@baga.cat
X-WR-TIMEZONE:Europe/Madrid
DESCRIPTION:Excursió circular per Gisclareny des de Coll d'Escriga fins a Sant Miquel de Turbians. 

URI:https://www.baga.cat/actualitat/agenda/uec-baga-descriga-turbians.html
CLASS:PUBLIC
END:VEVENT
END:VCALENDAR
