BEGIN:VCALENDAR
VERSION:2.0
CALSCALE:GREGORIAN
PRODID:-//Diputació de Barcelona//DibaCMS//EN
BEGIN:VEVENT
UID:1912
DTSTAMP:20260422T072302
DTSTART:20210607T000000
DTEND:20210707T000000
SUMMARY:Exposició Imatgeria Festiva - Francesc Cisa
LOCATION:Palau dels Barons de Pinós. Pujada a Palau, 7  08695 Bagà 
METHOD:PUBLISH
X-WR-CALNAME:baga@baga.cat
X-WR-TIMEZONE:Europe/Madrid
DESCRIPTION:A partir del dia 7 de juny fins al 7 de juliol pots visitar l'exposició d'artesania de Francesc Cisa.

URI:https://www.baga.cat/actualitat/agenda/exposicio-imatgeria-festiva.html
CLASS:PUBLIC
END:VEVENT
END:VCALENDAR
