BEGIN:VCALENDAR
VERSION:2.0
CALSCALE:GREGORIAN
PRODID:-//Diputació de Barcelona//DibaCMS//EN
BEGIN:VEVENT
UID:1896
DTSTAMP:20260422T054944
DTSTART:20210530T090000
DTEND:20210530T140000
SUMMARY:XXXVII Pujada de Bagà a Coll de Pal
LOCATION:
METHOD:PUBLISH
X-WR-CALNAME:baga@baga.cat
X-WR-TIMEZONE:Europe/Madrid
DESCRIPTION:Participa a l'edició d'enguany de la Pujada de Bagà a Coll de Pal el dia 30 de maig.

URI:https://www.baga.cat/actualitat/agenda/xxxvii-pujada-de-baga-a-coll-de-pal.html
CLASS:PUBLIC
END:VEVENT
END:VCALENDAR
