BEGIN:VCALENDAR
VERSION:2.0
CALSCALE:GREGORIAN
PRODID:-//Diputació de Barcelona//DibaCMS//EN
BEGIN:VEVENT
UID:1895
DTSTAMP:20260422T120829
DTSTART:20210603T093000
DTEND:20210603T120000
SUMMARY:Caminada Saludable | 3 de juny
LOCATION:
METHOD:PUBLISH
X-WR-CALNAME:baga@baga.cat
X-WR-TIMEZONE:Europe/Madrid
DESCRIPTION:Caminada a la Roca Tirabal.

Sortida amb cotxe des del Club fins a Turbians.

URI:https://www.baga.cat/actualitat/agenda/caminada-saludable--3-de-juny.html
CLASS:PUBLIC
END:VEVENT
END:VCALENDAR
