BEGIN:VCALENDAR
VERSION:2.0
CALSCALE:GREGORIAN
PRODID:-//Diputació de Barcelona//DibaCMS//EN
BEGIN:VEVENT
UID:1894
DTSTAMP:20260422T133839
DTSTART:20210708T180000
DTEND:20210708T210000
SUMMARY:Caminada Saludable | 8 juliol
LOCATION:Pere Tomic, 1 08695 Bagà
METHOD:PUBLISH
X-WR-CALNAME:baga@baga.cat
X-WR-TIMEZONE:Europe/Madrid
DESCRIPTION:Mou-te a l'Alt Berguedà amb una caminada pels voltants de Bagà.


	Sortida a les 18:00 h
	Inici: Club Bagà Gran


URI:https://www.baga.cat/actualitat/agenda/caminada-saludable-8-juliol.html
CLASS:PUBLIC
END:VEVENT
END:VCALENDAR
