BEGIN:VCALENDAR
VERSION:2.0
CALSCALE:GREGORIAN
PRODID:-//Diputació de Barcelona//DibaCMS//EN
BEGIN:VEVENT
UID:1888
DTSTAMP:20260422T072333
DTSTART:20210510T083000
DTEND:20210510T120000
SUMMARY:UEC Bagà - Roc dels Quatre Batlles
LOCATION:
METHOD:PUBLISH
X-WR-CALNAME:baga@baga.cat
X-WR-TIMEZONE:Europe/Madrid
DESCRIPTION:Excursió per descobrir el camí que uneix el Roc dels Quatre Batlles amb el cap del Tossal (repetidor de Guardiola). 

URI:https://www.baga.cat/actualitat/agenda/uec-baga-roc-dels-quatre-batlles.html
CLASS:PUBLIC
END:VEVENT
END:VCALENDAR
