BEGIN:VCALENDAR
VERSION:2.0
CALSCALE:GREGORIAN
PRODID:-//Diputació de Barcelona//DibaCMS//EN
BEGIN:VEVENT
UID:1883
DTSTAMP:20260422T054825
DTSTART:20210506T093000
DTEND:20210506T120000
SUMMARY:Caminada Saludable | 6 de maig
LOCATION:Pere Tomic, 1 08695 Bagà
METHOD:PUBLISH
X-WR-CALNAME:baga@baga.cat
X-WR-TIMEZONE:Europe/Madrid
DESCRIPTION:Mou-te a l'Alt Berguedà amb una caminada pels voltants de Bagà.


	Sortida a les 9:30 h
	Inici: Club Bagà Gran


URI:https://www.baga.cat/actualitat/agenda/caminada-saludable--6-de-maig.html
CLASS:PUBLIC
END:VEVENT
END:VCALENDAR
