BEGIN:VCALENDAR
VERSION:2.0
CALSCALE:GREGORIAN
PRODID:-//Diputació de Barcelona//DibaCMS//EN
BEGIN:VEVENT
UID:1878
DTSTAMP:20260422T024353
DTSTART:20210407T000000
DTEND:20210507T000000
SUMMARY:Exposició: Un cop d'ull a Bagà
LOCATION:Oficina de Turisme<br />
C/ Raval, 18<br />
Bagà 
METHOD:PUBLISH
X-WR-CALNAME:baga@baga.cat
X-WR-TIMEZONE:Europe/Madrid
DESCRIPTION:Exposició d'artesania puntaire a càrrec d'Aida Pou.

Fes-hi una visita!

URI:https://www.baga.cat/actualitat/agenda/exposicio-un-cop-dull-a-baga.html
CLASS:PUBLIC
END:VEVENT
END:VCALENDAR
