BEGIN:VCALENDAR
VERSION:2.0
CALSCALE:GREGORIAN
PRODID:-//Diputació de Barcelona//DibaCMS//EN
BEGIN:VEVENT
UID:1719
DTSTAMP:20260422T072031
DTSTART:20201207T100000
DTEND:20201207T203000
SUMMARY:Comparteix l'emoció de donar sang
LOCATION:Plaça Raval, 5 08695 Bagà
METHOD:PUBLISH
X-WR-CALNAME:baga@baga.cat
X-WR-TIMEZONE:Europe/Madrid
DESCRIPTION:Donació per ampliar les reserves del Banc de Sang i Teixits de Catalunya.

URI:https://www.baga.cat/actualitat/agenda/comparteix-lemocio-de-donar-sang.html
CLASS:PUBLIC
END:VEVENT
END:VCALENDAR
