BEGIN:VCALENDAR
VERSION:2.0
CALSCALE:GREGORIAN
PRODID:-//Diputació de Barcelona//DibaCMS//EN
BEGIN:VEVENT
UID:1686
DTSTAMP:20260422T055053
DTSTART:20210226T120000
DTEND:20210226T140000
SUMMARY:Festa de mostra 3
LOCATION:Pujada de Palau, 7 08695 Bagà
METHOD:PUBLISH
X-WR-CALNAME:baga@baga.cat
X-WR-TIMEZONE:Europe/Madrid
DESCRIPTION:Festa del barri de mostra.

URI:https://www.baga.cat/actualitat/agenda/festa-de-mostra-3.html
CLASS:PUBLIC
END:VEVENT
END:VCALENDAR
