BEGIN:VCALENDAR
VERSION:2.0
CALSCALE:GREGORIAN
PRODID:-//Diputació de Barcelona//DibaCMS//EN
BEGIN:VEVENT
UID:1316
DTSTAMP:20260422T085917
DTSTART:20201201T000000
DTEND:20201231T000000
SUMMARY:Exposició gràfica Fia-faia
LOCATION:Palau dels Barons de Pinós. Pujada a Palau, 7  08695 Bagà 
METHOD:PUBLISH
X-WR-CALNAME:baga@baga.cat
X-WR-TIMEZONE:Europe/Madrid
DESCRIPTION:Exposició gràfica de la Fia-Faia "Que nostro senyor ha nascut a la paia" (a Bagà i Sant Julià de Cerdanyola).

Dins del cicle d'exposicions permanents "Un cop d'ull a Bagà"



URI:https://www.baga.cat/actualitat/agenda/exposicio-grafica-fia-faia.html
CLASS:PUBLIC
END:VEVENT
END:VCALENDAR
