BEGIN:VCALENDAR
VERSION:2.0
CALSCALE:GREGORIAN
PRODID:-//Diputació de Barcelona//DibaCMS//EN
BEGIN:VEVENT
UID:DI_8764@www.baga.cat
DTSTAMP:20260424T193708
DTSTART:20260426T180000
DTEND:20260426T180000
SUMMARY:Una nova història
LOCATION:Plaça Raval, 5 08695 Bagà
METHOD:PUBLISH
X-WR-CALNAME:baga@baga.cat
X-WR-TIMEZONE:Europe/Madrid
DESCRIPTION:
URI:https://www.baga.cat/actualitat/agenda/una-nova-historia.html
CLASS:PUBLIC
END:VEVENT
BEGIN:VEVENT
UID:DI_8745@www.baga.cat
DTSTAMP:20260424T193708
DTSTART:20260429T110000
DTEND:20260429T180000
SUMMARY:Deixalleria mòbil
LOCATION:Pintor de Soto 
METHOD:PUBLISH
X-WR-CALNAME:baga@baga.cat
X-WR-TIMEZONE:Europe/Madrid
DESCRIPTION:
URI:https://www.baga.cat/actualitat/agenda/8745-deixalleria-mobil.html
CLASS:PUBLIC
END:VEVENT
BEGIN:VEVENT
UID:DI_8755@www.baga.cat
DTSTAMP:20260424T193708
DTSTART:20260430T073000
DTEND:20260430T180000
SUMMARY:Sortida a Caves Romagosa Torné
LOCATION:
METHOD:PUBLISH
X-WR-CALNAME:baga@baga.cat
X-WR-TIMEZONE:Europe/Madrid
DESCRIPTION:
URI:https://www.baga.cat/actualitat/agenda/sortida-a-caves-romagosa-torne.html
CLASS:PUBLIC
END:VEVENT
BEGIN:VEVENT
UID:DI_8761@www.baga.cat
DTSTAMP:20260424T193708
DTSTART:20260515T180000
DTEND:20260515T180000
SUMMARY:Bagà pel benestar
LOCATION:c/ Historiador Pere Tomic, 1 08695 Bagà
METHOD:PUBLISH
X-WR-CALNAME:baga@baga.cat
X-WR-TIMEZONE:Europe/Madrid
DESCRIPTION:
URI:https://www.baga.cat/actualitat/agenda/baga-pel-benestar.html
CLASS:PUBLIC
END:VEVENT
BEGIN:VEVENT
UID:DI_8762@www.baga.cat
DTSTAMP:20260424T193708
DTSTART:20260516T100000
DTEND:20260516T190000
SUMMARY:Bagà pel benestar
LOCATION:Plaça Raval, 5 08695 Bagà
METHOD:PUBLISH
X-WR-CALNAME:baga@baga.cat
X-WR-TIMEZONE:Europe/Madrid
DESCRIPTION:
URI:https://www.baga.cat/actualitat/agenda/8762-baga-pel-benestar.html
CLASS:PUBLIC
END:VEVENT
BEGIN:VEVENT
UID:DI_8766@www.baga.cat
DTSTAMP:20260424T193708
DTSTART:20260516T170000
DTEND:20260516T170000
SUMMARY:Festa de Maig
LOCATION:c/ Historiador Pere Tomic, 1 08695 Bagà
METHOD:PUBLISH
X-WR-CALNAME:baga@baga.cat
X-WR-TIMEZONE:Europe/Madrid
DESCRIPTION:
URI:https://www.baga.cat/actualitat/agenda/8766-festa-de-maig.html
CLASS:PUBLIC
END:VEVENT
BEGIN:VEVENT
UID:DI_8763@www.baga.cat
DTSTAMP:20260424T193708
DTSTART:20260517T100000
DTEND:20260517T120000
SUMMARY:Bagà pel benestar
LOCATION:Plaça Catalunya 
METHOD:PUBLISH
X-WR-CALNAME:baga@baga.cat
X-WR-TIMEZONE:Europe/Madrid
DESCRIPTION:
URI:https://www.baga.cat/actualitat/agenda/8763-baga-pel-benestar.html
CLASS:PUBLIC
END:VEVENT
BEGIN:VEVENT
UID:DI_8740@www.baga.cat
DTSTAMP:20260424T193708
DTSTART:20260521T104500
DTEND:20260521T104500
SUMMARY:A pas tranquil - Passejades pel benestar
LOCATION:
METHOD:PUBLISH
X-WR-CALNAME:baga@baga.cat
X-WR-TIMEZONE:Europe/Madrid
DESCRIPTION:
URI:https://www.baga.cat/actualitat/agenda/8740-a-pas-tranquil-passejades-pel-benestar.html
CLASS:PUBLIC
END:VEVENT
BEGIN:VEVENT
UID:DI_8746@www.baga.cat
DTSTAMP:20260424T193708
DTSTART:20260527T110000
DTEND:20260527T180000
SUMMARY:Deixalleria mòbil 
LOCATION:Pintor de Soto 
METHOD:PUBLISH
X-WR-CALNAME:baga@baga.cat
X-WR-TIMEZONE:Europe/Madrid
DESCRIPTION:
URI:https://www.baga.cat/actualitat/agenda/8746-deixalleria-mobil-.html
CLASS:PUBLIC
END:VEVENT
BEGIN:VEVENT
UID:DI_8741@www.baga.cat
DTSTAMP:20260424T193708
DTSTART:20260618T104500
DTEND:20260618T104500
SUMMARY:A pas tranquil - Passejades pel benestar 
LOCATION:
METHOD:PUBLISH
X-WR-CALNAME:baga@baga.cat
X-WR-TIMEZONE:Europe/Madrid
DESCRIPTION:
URI:https://www.baga.cat/actualitat/agenda/a-pas-tranquil-passejades-pel-benestar-.html
CLASS:PUBLIC
END:VEVENT
BEGIN:VEVENT
UID:DI_8747@www.baga.cat
DTSTAMP:20260424T193708
DTSTART:20260629T110000
DTEND:20260629T180000
SUMMARY:Deixalleria mòbil
LOCATION:Pintor de Soto 
METHOD:PUBLISH
X-WR-CALNAME:baga@baga.cat
X-WR-TIMEZONE:Europe/Madrid
DESCRIPTION:
URI:https://www.baga.cat/actualitat/agenda/8747-deixalleria-mobil.html
CLASS:PUBLIC
END:VEVENT
BEGIN:VEVENT
UID:DI_8748@www.baga.cat
DTSTAMP:20260424T193708
DTSTART:20260729T110000
DTEND:20260729T180000
SUMMARY:Deixalleria mòbil 
LOCATION:Pintor de Soto 
METHOD:PUBLISH
X-WR-CALNAME:baga@baga.cat
X-WR-TIMEZONE:Europe/Madrid
DESCRIPTION:
URI:https://www.baga.cat/actualitat/agenda/8748-deixalleria-mobil-.html
CLASS:PUBLIC
END:VEVENT
BEGIN:VEVENT
UID:DI_8749@www.baga.cat
DTSTAMP:20260424T193708
DTSTART:20260828T110000
DTEND:20260828T180000
SUMMARY:Deixalleria mòbil  
LOCATION:Pintor de Soto 
METHOD:PUBLISH
X-WR-CALNAME:baga@baga.cat
X-WR-TIMEZONE:Europe/Madrid
DESCRIPTION:
URI:https://www.baga.cat/actualitat/agenda/8749-deixalleria-mobil-.html
CLASS:PUBLIC
END:VEVENT
BEGIN:VEVENT
UID:DI_8750@www.baga.cat
DTSTAMP:20260424T193708
DTSTART:20260929T110000
DTEND:20260929T180000
SUMMARY:Deixalleria mòbil   
LOCATION:Pintor de Soto 
METHOD:PUBLISH
X-WR-CALNAME:baga@baga.cat
X-WR-TIMEZONE:Europe/Madrid
DESCRIPTION:
URI:https://www.baga.cat/actualitat/agenda/8750-deixalleria-mobil-.html
CLASS:PUBLIC
END:VEVENT
BEGIN:VEVENT
UID:DI_8751@www.baga.cat
DTSTAMP:20260424T193708
DTSTART:20261028T110000
DTEND:20261028T180000
SUMMARY:Deixalleria mòbil   
LOCATION:Pintor de Soto 
METHOD:PUBLISH
X-WR-CALNAME:baga@baga.cat
X-WR-TIMEZONE:Europe/Madrid
DESCRIPTION:
URI:https://www.baga.cat/actualitat/agenda/8751-deixalleria-mobil-.html
CLASS:PUBLIC
END:VEVENT
BEGIN:VEVENT
UID:DI_8752@www.baga.cat
DTSTAMP:20260424T193708
DTSTART:20261127T110000
DTEND:20261127T180000
SUMMARY:Deixalleria mòbil  
LOCATION:Pintor de Soto 
METHOD:PUBLISH
X-WR-CALNAME:baga@baga.cat
X-WR-TIMEZONE:Europe/Madrid
DESCRIPTION:
URI:https://www.baga.cat/actualitat/agenda/8752-deixalleria-mobil-.html
CLASS:PUBLIC
END:VEVENT
BEGIN:VEVENT
UID:DI_8753@www.baga.cat
DTSTAMP:20260424T193708
DTSTART:20261230T110000
DTEND:20261230T180000
SUMMARY:Deixalleria mòbil  
LOCATION:Pintor de Soto 
METHOD:PUBLISH
X-WR-CALNAME:baga@baga.cat
X-WR-TIMEZONE:Europe/Madrid
DESCRIPTION:
URI:https://www.baga.cat/actualitat/agenda/8753-deixalleria-mobil-.html
CLASS:PUBLIC
END:VEVENT
END:VCALENDAR
